Workbook

Sheet Bets
A1: Date | B1: Bookmaker | C1: Sport | D1: Event | E1: Selection | F1: Market | G1: Bet type | H1: Legs | I1: Odds (decimal) | J1: Stake | K1: Status | L1: Return | M1: Profit | N1: Running balance
A2: 46313 | B2: Bookmaker A | C2: Football | D2: Arsenal v Chelsea | E2: Arsenal | F2: Match result | G2: Single | H2: 1 | I2: 1.85 | J2: 10 | K2: Won | L2: 18.5 | M2: =IF(OR(K2="",K2="Pending"),"",L2-J2) -> 8.5 | N2: =IF(M2="","",'Summary'!$B$4+SUM($M$2:M2)) -> 208.5
A3: 46314 | B3: Bookmaker B | C3: Tennis | D3: Sinner v Alcaraz | E3: Sinner | F3: Match winner | G3: Single | H3: 1 | I3: 1.65 | J3: 15 | K3: Lost | L3: 0 | M3: =IF(OR(K3="",K3="Pending"),"",L3-J3) -> -15 | N3: =IF(M3="","",'Summary'!$B$4+SUM($M$2:M3)) -> 193.5
A4: 46314 | B4: Bookmaker A | C4: Football | D4: 3 Saturday matches | E4: Three home wins | F4: Match result | G4: Parlay | H4: 3 | I4: 5.2 | J4: 5 | K4: Lost | L4: 0 | M4: =IF(OR(K4="",K4="Pending"),"",L4-J4) -> -5 | N4: =IF(M4="","",'Summary'!$B$4+SUM($M$2:M4)) -> 188.5
A5: 46315 | B5: Bookmaker B | C5: Basketball | D5: Lakers v Celtics | E5: Over 221.5 points | F5: Total points | G5: Single | H5: 1 | I5: 1.9 | J5: 10 | K5: Won | L5: 19 | M5: =IF(OR(K5="",K5="Pending"),"",L5-J5) -> 9 | N5: =IF(M5="","",'Summary'!$B$4+SUM($M$2:M5)) -> 197.5
A6: 46316 | B6: Bookmaker A | C6: Football | D6: Lyon v Lille | E6: Lyon | F6: Match result | G6: Single | H6: 1 | I6: 2.4 | J6: 10 | K6: Cash out | L6: 14 | M6: =IF(OR(K6="",K6="Pending"),"",L6-J6) -> 4 | N6: =IF(M6="","",'Summary'!$B$4+SUM($M$2:M6)) -> 201.5
A7: 46317 | B7: Bookmaker B | C7: Tennis | D7: Swiatek v Gauff | E7: Swiatek | F7: Match winner | G7: Single | H7: 1 | I7: 1.5 | J7: 10 | K7: Pending | M7: =IF(OR(K7="",K7="Pending"),"",L7-J7) | N7: =IF(M7="","",'Summary'!$B$4+SUM($M$2:M7))
M8: =IF(OR(K8="",K8="Pending"),"",L8-J8) | N8: =IF(M8="","",'Summary'!$B$4+SUM($M$2:M8))
M9: =IF(OR(K9="",K9="Pending"),"",L9-J9) | N9: =IF(M9="","",'Summary'!$B$4+SUM($M$2:M9))
M10: =IF(OR(K10="",K10="Pending"),"",L10-J10) | N10: =IF(M10="","",'Summary'!$B$4+SUM($M$2:M10))
M11: =IF(OR(K11="",K11="Pending"),"",L11-J11) | N11: =IF(M11="","",'Summary'!$B$4+SUM($M$2:M11))
M12: =IF(OR(K12="",K12="Pending"),"",L12-J12) | N12: =IF(M12="","",'Summary'!$B$4+SUM($M$2:M12))
M13: =IF(OR(K13="",K13="Pending"),"",L13-J13) | N13: =IF(M13="","",'Summary'!$B$4+SUM($M$2:M13))
M14: =IF(OR(K14="",K14="Pending"),"",L14-J14) | N14: =IF(M14="","",'Summary'!$B$4+SUM($M$2:M14))
M15: =IF(OR(K15="",K15="Pending"),"",L15-J15) | N15: =IF(M15="","",'Summary'!$B$4+SUM($M$2:M15))
M16: =IF(OR(K16="",K16="Pending"),"",L16-J16) | N16: =IF(M16="","",'Summary'!$B$4+SUM($M$2:M16))
M17: =IF(OR(K17="",K17="Pending"),"",L17-J17) | N17: =IF(M17="","",'Summary'!$B$4+SUM($M$2:M17))
M18: =IF(OR(K18="",K18="Pending"),"",L18-J18) | N18: =IF(M18="","",'Summary'!$B$4+SUM($M$2:M18))
M19: =IF(OR(K19="",K19="Pending"),"",L19-J19) | N19: =IF(M19="","",'Summary'!$B$4+SUM($M$2:M19))
... M1000: =IF(OR(K1000="",K1000="Pending"),"",L1000-J1000) | N1000: =IF(M1000="","",'Summary'!$B$4+SUM($M$2:M1000))

Sheet Summary
A1: Bet tracker template
A2: How to use it: set your starting bankroll in the yellow cell, then log each bet on its own row of the Bets sheet, columns A to L (a parlay is one row, with its number of legs). Profit, running balance and every figure below are calculated, and the Charts sheet draws them. The example rows show the format: delete them before you start.
A4: Starting bankroll | B4: 200
A6: Settled bets (void excluded) | B6: =COUNTIFS('Bets'!$K$2:$K$1000,"<>",'Bets'!$K$2:$K$1000,"<>Pending",'Bets'!$K$2:$K$1000,"<>Void") -> 5
A7: Bets won | B7: =COUNTIF('Bets'!$K$2:$K$1000,"Won") -> 2
A8: Bets lost | B8: =COUNTIF('Bets'!$K$2:$K$1000,"Lost") -> 2
A9: Total staked (settled bets) | B9: =SUMIFS('Bets'!$J$2:$J$1000,'Bets'!$K$2:$K$1000,"<>",'Bets'!$K$2:$K$1000,"<>Pending",'Bets'!$K$2:$K$1000,"<>Void") -> 50
A10: Total returns | B10: =SUMIFS('Bets'!$L$2:$L$1000,'Bets'!$K$2:$K$1000,"<>",'Bets'!$K$2:$K$1000,"<>Pending",'Bets'!$K$2:$K$1000,"<>Void") -> 51.5
A11: Net result | B11: =B10-B9 -> 1.5
A12: ROI | B12: =IFERROR(B11/B9,"") -> 0.03
A13: Win rate (won ÷ won + lost) | B13: =IFERROR(B7/(B7+B8),"") -> 0.5
A14: Average odds | B14: =IFERROR(AVERAGEIFS('Bets'!$I$2:$I$1000,'Bets'!$K$2:$K$1000,"<>",'Bets'!$K$2:$K$1000,"<>Pending",'Bets'!$K$2:$K$1000,"<>Void"),"") -> 2.6
A15: Stakes on pending bets | B15: =SUMIFS('Bets'!$J$2:$J$1000,'Bets'!$K$2:$K$1000,"Pending") -> 10
A16: Balance (settled bets) | B16: =B4+B11 -> 201.5
A18: Made by BetTrack, the bet tracker for iPhone that logs bets from a screenshot: bet-track.app

Sheet Charts
A1: Charts
A2: Every chart updates from the Bets sheet. Their tables are on the Months, Sports, Statuses and Balance sheets.

Sheet Months
A1: Net result by month
A2: Feeds the chart "Net result by month" on the Charts sheet. It updates from the Bets sheet: nothing to type here.
A4: Month | B4: Staked | C4: Net result | D4: Up | E4: Down
A5: =IF(COUNT('Bets'!$A$2:$A$1000)=0,"",EDATE(DATE(YEAR(MAX('Bets'!$A$2:$A$1000)),MONTH(MAX('Bets'!$A$2:$A$1000)),1),-11)) -> 45962 | B5: =IF($A5="","",SUMIFS('Bets'!$J$2:$J$1000,'Bets'!$A$2:$A$1000,">="&$A5,'Bets'!$A$2:$A$1000,"<"&EDATE($A5,1),'Bets'!$K$2:$K$1000,"<>",'Bets'!$K$2:$K$1000,"<>Pending",'Bets'!$K$2:$K$1000,"<>Void")) -> 0 | C5: =IF($A5="","",SUMIFS('Bets'!$M$2:$M$1000,'Bets'!$A$2:$A$1000,">="&$A5,'Bets'!$A$2:$A$1000,"<"&EDATE($A5,1))) -> 0 | D5: =IF(C5="","",MAX(C5,0)) -> 0 | E5: =IF(C5="","",MIN(C5,0)) -> 0
A6: =IF(COUNT('Bets'!$A$2:$A$1000)=0,"",EDATE(DATE(YEAR(MAX('Bets'!$A$2:$A$1000)),MONTH(MAX('Bets'!$A$2:$A$1000)),1),-10)) -> 45992 | B6: =IF($A6="","",SUMIFS('Bets'!$J$2:$J$1000,'Bets'!$A$2:$A$1000,">="&$A6,'Bets'!$A$2:$A$1000,"<"&EDATE($A6,1),'Bets'!$K$2:$K$1000,"<>",'Bets'!$K$2:$K$1000,"<>Pending",'Bets'!$K$2:$K$1000,"<>Void")) -> 0 | C6: =IF($A6="","",SUMIFS('Bets'!$M$2:$M$1000,'Bets'!$A$2:$A$1000,">="&$A6,'Bets'!$A$2:$A$1000,"<"&EDATE($A6,1))) -> 0 | D6: =IF(C6="","",MAX(C6,0)) -> 0 | E6: =IF(C6="","",MIN(C6,0)) -> 0
A7: =IF(COUNT('Bets'!$A$2:$A$1000)=0,"",EDATE(DATE(YEAR(MAX('Bets'!$A$2:$A$1000)),MONTH(MAX('Bets'!$A$2:$A$1000)),1),-9)) -> 46023 | B7: =IF($A7="","",SUMIFS('Bets'!$J$2:$J$1000,'Bets'!$A$2:$A$1000,">="&$A7,'Bets'!$A$2:$A$1000,"<"&EDATE($A7,1),'Bets'!$K$2:$K$1000,"<>",'Bets'!$K$2:$K$1000,"<>Pending",'Bets'!$K$2:$K$1000,"<>Void")) -> 0 | C7: =IF($A7="","",SUMIFS('Bets'!$M$2:$M$1000,'Bets'!$A$2:$A$1000,">="&$A7,'Bets'!$A$2:$A$1000,"<"&EDATE($A7,1))) -> 0 | D7: =IF(C7="","",MAX(C7,0)) -> 0 | E7: =IF(C7="","",MIN(C7,0)) -> 0
A8: =IF(COUNT('Bets'!$A$2:$A$1000)=0,"",EDATE(DATE(YEAR(MAX('Bets'!$A$2:$A$1000)),MONTH(MAX('Bets'!$A$2:$A$1000)),1),-8)) -> 46054 | B8: =IF($A8="","",SUMIFS('Bets'!$J$2:$J$1000,'Bets'!$A$2:$A$1000,">="&$A8,'Bets'!$A$2:$A$1000,"<"&EDATE($A8,1),'Bets'!$K$2:$K$1000,"<>",'Bets'!$K$2:$K$1000,"<>Pending",'Bets'!$K$2:$K$1000,"<>Void")) -> 0 | C8: =IF($A8="","",SUMIFS('Bets'!$M$2:$M$1000,'Bets'!$A$2:$A$1000,">="&$A8,'Bets'!$A$2:$A$1000,"<"&EDATE($A8,1))) -> 0 | D8: =IF(C8="","",MAX(C8,0)) -> 0 | E8: =IF(C8="","",MIN(C8,0)) -> 0
A9: =IF(COUNT('Bets'!$A$2:$A$1000)=0,"",EDATE(DATE(YEAR(MAX('Bets'!$A$2:$A$1000)),MONTH(MAX('Bets'!$A$2:$A$1000)),1),-7)) -> 46082 | B9: =IF($A9="","",SUMIFS('Bets'!$J$2:$J$1000,'Bets'!$A$2:$A$1000,">="&$A9,'Bets'!$A$2:$A$1000,"<"&EDATE($A9,1),'Bets'!$K$2:$K$1000,"<>",'Bets'!$K$2:$K$1000,"<>Pending",'Bets'!$K$2:$K$1000,"<>Void")) -> 0 | C9: =IF($A9="","",SUMIFS('Bets'!$M$2:$M$1000,'Bets'!$A$2:$A$1000,">="&$A9,'Bets'!$A$2:$A$1000,"<"&EDATE($A9,1))) -> 0 | D9: =IF(C9="","",MAX(C9,0)) -> 0 | E9: =IF(C9="","",MIN(C9,0)) -> 0
A10: =IF(COUNT('Bets'!$A$2:$A$1000)=0,"",EDATE(DATE(YEAR(MAX('Bets'!$A$2:$A$1000)),MONTH(MAX('Bets'!$A$2:$A$1000)),1),-6)) -> 46113 | B10: =IF($A10="","",SUMIFS('Bets'!$J$2:$J$1000,'Bets'!$A$2:$A$1000,">="&$A10,'Bets'!$A$2:$A$1000,"<"&EDATE($A10,1),'Bets'!$K$2:$K$1000,"<>",'Bets'!$K$2:$K$1000,"<>Pending",'Bets'!$K$2:$K$1000,"<>Void")) -> 0 | C10: =IF($A10="","",SUMIFS('Bets'!$M$2:$M$1000,'Bets'!$A$2:$A$1000,">="&$A10,'Bets'!$A$2:$A$1000,"<"&EDATE($A10,1))) -> 0 | D10: =IF(C10="","",MAX(C10,0)) -> 0 | E10: =IF(C10="","",MIN(C10,0)) -> 0
A11: =IF(COUNT('Bets'!$A$2:$A$1000)=0,"",EDATE(DATE(YEAR(MAX('Bets'!$A$2:$A$1000)),MONTH(MAX('Bets'!$A$2:$A$1000)),1),-5)) -> 46143 | B11: =IF($A11="","",SUMIFS('Bets'!$J$2:$J$1000,'Bets'!$A$2:$A$1000,">="&$A11,'Bets'!$A$2:$A$1000,"<"&EDATE($A11,1),'Bets'!$K$2:$K$1000,"<>",'Bets'!$K$2:$K$1000,"<>Pending",'Bets'!$K$2:$K$1000,"<>Void")) -> 0 | C11: =IF($A11="","",SUMIFS('Bets'!$M$2:$M$1000,'Bets'!$A$2:$A$1000,">="&$A11,'Bets'!$A$2:$A$1000,"<"&EDATE($A11,1))) -> 0 | D11: =IF(C11="","",MAX(C11,0)) -> 0 | E11: =IF(C11="","",MIN(C11,0)) -> 0
A12: =IF(COUNT('Bets'!$A$2:$A$1000)=0,"",EDATE(DATE(YEAR(MAX('Bets'!$A$2:$A$1000)),MONTH(MAX('Bets'!$A$2:$A$1000)),1),-4)) -> 46174 | B12: =IF($A12="","",SUMIFS('Bets'!$J$2:$J$1000,'Bets'!$A$2:$A$1000,">="&$A12,'Bets'!$A$2:$A$1000,"<"&EDATE($A12,1),'Bets'!$K$2:$K$1000,"<>",'Bets'!$K$2:$K$1000,"<>Pending",'Bets'!$K$2:$K$1000,"<>Void")) -> 0 | C12: =IF($A12="","",SUMIFS('Bets'!$M$2:$M$1000,'Bets'!$A$2:$A$1000,">="&$A12,'Bets'!$A$2:$A$1000,"<"&EDATE($A12,1))) -> 0 | D12: =IF(C12="","",MAX(C12,0)) -> 0 | E12: =IF(C12="","",MIN(C12,0)) -> 0
A13: =IF(COUNT('Bets'!$A$2:$A$1000)=0,"",EDATE(DATE(YEAR(MAX('Bets'!$A$2:$A$1000)),MONTH(MAX('Bets'!$A$2:$A$1000)),1),-3)) -> 46204 | B13: =IF($A13="","",SUMIFS('Bets'!$J$2:$J$1000,'Bets'!$A$2:$A$1000,">="&$A13,'Bets'!$A$2:$A$1000,"<"&EDATE($A13,1),'Bets'!$K$2:$K$1000,"<>",'Bets'!$K$2:$K$1000,"<>Pending",'Bets'!$K$2:$K$1000,"<>Void")) -> 0 | C13: =IF($A13="","",SUMIFS('Bets'!$M$2:$M$1000,'Bets'!$A$2:$A$1000,">="&$A13,'Bets'!$A$2:$A$1000,"<"&EDATE($A13,1))) -> 0 | D13: =IF(C13="","",MAX(C13,0)) -> 0 | E13: =IF(C13="","",MIN(C13,0)) -> 0
A14: =IF(COUNT('Bets'!$A$2:$A$1000)=0,"",EDATE(DATE(YEAR(MAX('Bets'!$A$2:$A$1000)),MONTH(MAX('Bets'!$A$2:$A$1000)),1),-2)) -> 46235 | B14: =IF($A14="","",SUMIFS('Bets'!$J$2:$J$1000,'Bets'!$A$2:$A$1000,">="&$A14,'Bets'!$A$2:$A$1000,"<"&EDATE($A14,1),'Bets'!$K$2:$K$1000,"<>",'Bets'!$K$2:$K$1000,"<>Pending",'Bets'!$K$2:$K$1000,"<>Void")) -> 0 | C14: =IF($A14="","",SUMIFS('Bets'!$M$2:$M$1000,'Bets'!$A$2:$A$1000,">="&$A14,'Bets'!$A$2:$A$1000,"<"&EDATE($A14,1))) -> 0 | D14: =IF(C14="","",MAX(C14,0)) -> 0 | E14: =IF(C14="","",MIN(C14,0)) -> 0
A15: =IF(COUNT('Bets'!$A$2:$A$1000)=0,"",EDATE(DATE(YEAR(MAX('Bets'!$A$2:$A$1000)),MONTH(MAX('Bets'!$A$2:$A$1000)),1),-1)) -> 46266 | B15: =IF($A15="","",SUMIFS('Bets'!$J$2:$J$1000,'Bets'!$A$2:$A$1000,">="&$A15,'Bets'!$A$2:$A$1000,"<"&EDATE($A15,1),'Bets'!$K$2:$K$1000,"<>",'Bets'!$K$2:$K$1000,"<>Pending",'Bets'!$K$2:$K$1000,"<>Void")) -> 0 | C15: =IF($A15="","",SUMIFS('Bets'!$M$2:$M$1000,'Bets'!$A$2:$A$1000,">="&$A15,'Bets'!$A$2:$A$1000,"<"&EDATE($A15,1))) -> 0 | D15: =IF(C15="","",MAX(C15,0)) -> 0 | E15: =IF(C15="","",MIN(C15,0)) -> 0
A16: =IF(COUNT('Bets'!$A$2:$A$1000)=0,"",EDATE(DATE(YEAR(MAX('Bets'!$A$2:$A$1000)),MONTH(MAX('Bets'!$A$2:$A$1000)),1),0)) -> 46296 | B16: =IF($A16="","",SUMIFS('Bets'!$J$2:$J$1000,'Bets'!$A$2:$A$1000,">="&$A16,'Bets'!$A$2:$A$1000,"<"&EDATE($A16,1),'Bets'!$K$2:$K$1000,"<>",'Bets'!$K$2:$K$1000,"<>Pending",'Bets'!$K$2:$K$1000,"<>Void")) -> 50 | C16: =IF($A16="","",SUMIFS('Bets'!$M$2:$M$1000,'Bets'!$A$2:$A$1000,">="&$A16,'Bets'!$A$2:$A$1000,"<"&EDATE($A16,1))) -> 1.5 | D16: =IF(C16="","",MAX(C16,0)) -> 1.5 | E16: =IF(C16="","",MIN(C16,0)) -> 0

Sheet Sports
A1: Net result by sport
A2: Feeds the chart "Net result by sport" on the Charts sheet. It updates from the Bets sheet: nothing to type here. The first 12 sports of the Bets sheet, in the order they first appear (column H numbers them).
A4: Sport | B4: Bets | C4: Net result | D4: Up | E4: Down | H4: Sport #
A5: =IFERROR(INDEX('Bets'!$C$2:$C$1000,MATCH(1,$H$5:$H$1003,0)),"") -> Football | B5: =IF($A5="","",COUNTIFS('Bets'!$C$2:$C$1000,$A5,'Bets'!$K$2:$K$1000,"<>",'Bets'!$K$2:$K$1000,"<>Pending",'Bets'!$K$2:$K$1000,"<>Void")) -> 3 | C5: =IF($A5="","",SUMIFS('Bets'!$M$2:$M$1000,'Bets'!$C$2:$C$1000,$A5)) -> 7.5 | D5: =IF(C5="","",MAX(C5,0)) -> 7.5 | E5: =IF(C5="","",MIN(C5,0)) -> 0 | H5: =IF('Bets'!C2="","",IF(COUNTIF('Bets'!$C$2:C2,'Bets'!C2)=1,MAX($H$4:H4)+1,"")) -> 1
A6: =IFERROR(INDEX('Bets'!$C$2:$C$1000,MATCH(2,$H$5:$H$1003,0)),"") -> Tennis | B6: =IF($A6="","",COUNTIFS('Bets'!$C$2:$C$1000,$A6,'Bets'!$K$2:$K$1000,"<>",'Bets'!$K$2:$K$1000,"<>Pending",'Bets'!$K$2:$K$1000,"<>Void")) -> 1 | C6: =IF($A6="","",SUMIFS('Bets'!$M$2:$M$1000,'Bets'!$C$2:$C$1000,$A6)) -> -15 | D6: =IF(C6="","",MAX(C6,0)) -> 0 | E6: =IF(C6="","",MIN(C6,0)) -> -15 | H6: =IF('Bets'!C3="","",IF(COUNTIF('Bets'!$C$2:C3,'Bets'!C3)=1,MAX($H$4:H5)+1,"")) -> 2
A7: =IFERROR(INDEX('Bets'!$C$2:$C$1000,MATCH(3,$H$5:$H$1003,0)),"") -> Basketball | B7: =IF($A7="","",COUNTIFS('Bets'!$C$2:$C$1000,$A7,'Bets'!$K$2:$K$1000,"<>",'Bets'!$K$2:$K$1000,"<>Pending",'Bets'!$K$2:$K$1000,"<>Void")) -> 1 | C7: =IF($A7="","",SUMIFS('Bets'!$M$2:$M$1000,'Bets'!$C$2:$C$1000,$A7)) -> 9 | D7: =IF(C7="","",MAX(C7,0)) -> 9 | E7: =IF(C7="","",MIN(C7,0)) -> 0 | H7: =IF('Bets'!C4="","",IF(COUNTIF('Bets'!$C$2:C4,'Bets'!C4)=1,MAX($H$4:H6)+1,""))
A8: =IFERROR(INDEX('Bets'!$C$2:$C$1000,MATCH(4,$H$5:$H$1003,0)),"") | B8: =IF($A8="","",COUNTIFS('Bets'!$C$2:$C$1000,$A8,'Bets'!$K$2:$K$1000,"<>",'Bets'!$K$2:$K$1000,"<>Pending",'Bets'!$K$2:$K$1000,"<>Void")) | C8: =IF($A8="","",SUMIFS('Bets'!$M$2:$M$1000,'Bets'!$C$2:$C$1000,$A8)) | D8: =IF(C8="","",MAX(C8,0)) | E8: =IF(C8="","",MIN(C8,0)) | H8: =IF('Bets'!C5="","",IF(COUNTIF('Bets'!$C$2:C5,'Bets'!C5)=1,MAX($H$4:H7)+1,"")) -> 3
A9: =IFERROR(INDEX('Bets'!$C$2:$C$1000,MATCH(5,$H$5:$H$1003,0)),"") | B9: =IF($A9="","",COUNTIFS('Bets'!$C$2:$C$1000,$A9,'Bets'!$K$2:$K$1000,"<>",'Bets'!$K$2:$K$1000,"<>Pending",'Bets'!$K$2:$K$1000,"<>Void")) | C9: =IF($A9="","",SUMIFS('Bets'!$M$2:$M$1000,'Bets'!$C$2:$C$1000,$A9)) | D9: =IF(C9="","",MAX(C9,0)) | E9: =IF(C9="","",MIN(C9,0)) | H9: =IF('Bets'!C6="","",IF(COUNTIF('Bets'!$C$2:C6,'Bets'!C6)=1,MAX($H$4:H8)+1,""))
A10: =IFERROR(INDEX('Bets'!$C$2:$C$1000,MATCH(6,$H$5:$H$1003,0)),"") | B10: =IF($A10="","",COUNTIFS('Bets'!$C$2:$C$1000,$A10,'Bets'!$K$2:$K$1000,"<>",'Bets'!$K$2:$K$1000,"<>Pending",'Bets'!$K$2:$K$1000,"<>Void")) | C10: =IF($A10="","",SUMIFS('Bets'!$M$2:$M$1000,'Bets'!$C$2:$C$1000,$A10)) | D10: =IF(C10="","",MAX(C10,0)) | E10: =IF(C10="","",MIN(C10,0)) | H10: =IF('Bets'!C7="","",IF(COUNTIF('Bets'!$C$2:C7,'Bets'!C7)=1,MAX($H$4:H9)+1,""))
A11: =IFERROR(INDEX('Bets'!$C$2:$C$1000,MATCH(7,$H$5:$H$1003,0)),"") | B11: =IF($A11="","",COUNTIFS('Bets'!$C$2:$C$1000,$A11,'Bets'!$K$2:$K$1000,"<>",'Bets'!$K$2:$K$1000,"<>Pending",'Bets'!$K$2:$K$1000,"<>Void")) | C11: =IF($A11="","",SUMIFS('Bets'!$M$2:$M$1000,'Bets'!$C$2:$C$1000,$A11)) | D11: =IF(C11="","",MAX(C11,0)) | E11: =IF(C11="","",MIN(C11,0)) | H11: =IF('Bets'!C8="","",IF(COUNTIF('Bets'!$C$2:C8,'Bets'!C8)=1,MAX($H$4:H10)+1,""))
A12: =IFERROR(INDEX('Bets'!$C$2:$C$1000,MATCH(8,$H$5:$H$1003,0)),"") | B12: =IF($A12="","",COUNTIFS('Bets'!$C$2:$C$1000,$A12,'Bets'!$K$2:$K$1000,"<>",'Bets'!$K$2:$K$1000,"<>Pending",'Bets'!$K$2:$K$1000,"<>Void")) | C12: =IF($A12="","",SUMIFS('Bets'!$M$2:$M$1000,'Bets'!$C$2:$C$1000,$A12)) | D12: =IF(C12="","",MAX(C12,0)) | E12: =IF(C12="","",MIN(C12,0)) | H12: =IF('Bets'!C9="","",IF(COUNTIF('Bets'!$C$2:C9,'Bets'!C9)=1,MAX($H$4:H11)+1,""))
A13: =IFERROR(INDEX('Bets'!$C$2:$C$1000,MATCH(9,$H$5:$H$1003,0)),"") | B13: =IF($A13="","",COUNTIFS('Bets'!$C$2:$C$1000,$A13,'Bets'!$K$2:$K$1000,"<>",'Bets'!$K$2:$K$1000,"<>Pending",'Bets'!$K$2:$K$1000,"<>Void")) | C13: =IF($A13="","",SUMIFS('Bets'!$M$2:$M$1000,'Bets'!$C$2:$C$1000,$A13)) | D13: =IF(C13="","",MAX(C13,0)) | E13: =IF(C13="","",MIN(C13,0)) | H13: =IF('Bets'!C10="","",IF(COUNTIF('Bets'!$C$2:C10,'Bets'!C10)=1,MAX($H$4:H12)+1,""))
A14: =IFERROR(INDEX('Bets'!$C$2:$C$1000,MATCH(10,$H$5:$H$1003,0)),"") | B14: =IF($A14="","",COUNTIFS('Bets'!$C$2:$C$1000,$A14,'Bets'!$K$2:$K$1000,"<>",'Bets'!$K$2:$K$1000,"<>Pending",'Bets'!$K$2:$K$1000,"<>Void")) | C14: =IF($A14="","",SUMIFS('Bets'!$M$2:$M$1000,'Bets'!$C$2:$C$1000,$A14)) | D14: =IF(C14="","",MAX(C14,0)) | E14: =IF(C14="","",MIN(C14,0)) | H14: =IF('Bets'!C11="","",IF(COUNTIF('Bets'!$C$2:C11,'Bets'!C11)=1,MAX($H$4:H13)+1,""))
A15: =IFERROR(INDEX('Bets'!$C$2:$C$1000,MATCH(11,$H$5:$H$1003,0)),"") | B15: =IF($A15="","",COUNTIFS('Bets'!$C$2:$C$1000,$A15,'Bets'!$K$2:$K$1000,"<>",'Bets'!$K$2:$K$1000,"<>Pending",'Bets'!$K$2:$K$1000,"<>Void")) | C15: =IF($A15="","",SUMIFS('Bets'!$M$2:$M$1000,'Bets'!$C$2:$C$1000,$A15)) | D15: =IF(C15="","",MAX(C15,0)) | E15: =IF(C15="","",MIN(C15,0)) | H15: =IF('Bets'!C12="","",IF(COUNTIF('Bets'!$C$2:C12,'Bets'!C12)=1,MAX($H$4:H14)+1,""))
A16: =IFERROR(INDEX('Bets'!$C$2:$C$1000,MATCH(12,$H$5:$H$1003,0)),"") | B16: =IF($A16="","",COUNTIFS('Bets'!$C$2:$C$1000,$A16,'Bets'!$K$2:$K$1000,"<>",'Bets'!$K$2:$K$1000,"<>Pending",'Bets'!$K$2:$K$1000,"<>Void")) | C16: =IF($A16="","",SUMIFS('Bets'!$M$2:$M$1000,'Bets'!$C$2:$C$1000,$A16)) | D16: =IF(C16="","",MAX(C16,0)) | E16: =IF(C16="","",MIN(C16,0)) | H16: =IF('Bets'!C13="","",IF(COUNTIF('Bets'!$C$2:C13,'Bets'!C13)=1,MAX($H$4:H15)+1,""))
H17: =IF('Bets'!C14="","",IF(COUNTIF('Bets'!$C$2:C14,'Bets'!C14)=1,MAX($H$4:H16)+1,""))
H18: =IF('Bets'!C15="","",IF(COUNTIF('Bets'!$C$2:C15,'Bets'!C15)=1,MAX($H$4:H17)+1,""))
H19: =IF('Bets'!C16="","",IF(COUNTIF('Bets'!$C$2:C16,'Bets'!C16)=1,MAX($H$4:H18)+1,""))
H20: =IF('Bets'!C17="","",IF(COUNTIF('Bets'!$C$2:C17,'Bets'!C17)=1,MAX($H$4:H19)+1,""))
H21: =IF('Bets'!C18="","",IF(COUNTIF('Bets'!$C$2:C18,'Bets'!C18)=1,MAX($H$4:H20)+1,""))
H22: =IF('Bets'!C19="","",IF(COUNTIF('Bets'!$C$2:C19,'Bets'!C19)=1,MAX($H$4:H21)+1,""))
H23: =IF('Bets'!C20="","",IF(COUNTIF('Bets'!$C$2:C20,'Bets'!C20)=1,MAX($H$4:H22)+1,""))
H24: =IF('Bets'!C21="","",IF(COUNTIF('Bets'!$C$2:C21,'Bets'!C21)=1,MAX($H$4:H23)+1,""))
H25: =IF('Bets'!C22="","",IF(COUNTIF('Bets'!$C$2:C22,'Bets'!C22)=1,MAX($H$4:H24)+1,""))
H26: =IF('Bets'!C23="","",IF(COUNTIF('Bets'!$C$2:C23,'Bets'!C23)=1,MAX($H$4:H25)+1,""))
H27: =IF('Bets'!C24="","",IF(COUNTIF('Bets'!$C$2:C24,'Bets'!C24)=1,MAX($H$4:H26)+1,""))
H28: =IF('Bets'!C25="","",IF(COUNTIF('Bets'!$C$2:C25,'Bets'!C25)=1,MAX($H$4:H27)+1,""))
... H1003: =IF('Bets'!C1000="","",IF(COUNTIF('Bets'!$C$2:C1000,'Bets'!C1000)=1,MAX($H$4:H1002)+1,""))

Sheet Statuses
A1: Bets by status
A2: Feeds the chart "Bets by status" on the Charts sheet. It updates from the Bets sheet: nothing to type here.
A4: Status | B4: Bets
A5: Won | B5: =COUNTIF('Bets'!$K$2:$K$1000,$A5) -> 2
A6: Lost | B6: =COUNTIF('Bets'!$K$2:$K$1000,$A6) -> 2
A7: Void | B7: =COUNTIF('Bets'!$K$2:$K$1000,$A7) -> 0
A8: Cash out | B8: =COUNTIF('Bets'!$K$2:$K$1000,$A8) -> 1

Sheet Balance
A1: Balance after each bet
A2: Feeds the chart "Balance after each bet" on the Charts sheet. It updates from the Bets sheet: nothing to type here.
A4: Bet | B4: Balance
A5: 0 | B5: ='Summary'!$B$4 -> 200
A6: =IF(ISNUMBER('Bets'!N2),1,NA()) -> 1 | B6: =IF(ISNUMBER('Bets'!N2),'Bets'!N2,NA()) -> 208.5
A7: =IF(ISNUMBER('Bets'!N3),2,NA()) -> 2 | B7: =IF(ISNUMBER('Bets'!N3),'Bets'!N3,NA()) -> 193.5
A8: =IF(ISNUMBER('Bets'!N4),3,NA()) -> 3 | B8: =IF(ISNUMBER('Bets'!N4),'Bets'!N4,NA()) -> 188.5
A9: =IF(ISNUMBER('Bets'!N5),4,NA()) -> 4 | B9: =IF(ISNUMBER('Bets'!N5),'Bets'!N5,NA()) -> 197.5
A10: =IF(ISNUMBER('Bets'!N6),5,NA()) -> 5 | B10: =IF(ISNUMBER('Bets'!N6),'Bets'!N6,NA()) -> 201.5
A11: =IF(ISNUMBER('Bets'!N7),6,NA()) -> #N/A | B11: =IF(ISNUMBER('Bets'!N7),'Bets'!N7,NA()) -> #N/A
A12: =IF(ISNUMBER('Bets'!N8),7,NA()) -> #N/A | B12: =IF(ISNUMBER('Bets'!N8),'Bets'!N8,NA()) -> #N/A
A13: =IF(ISNUMBER('Bets'!N9),8,NA()) -> #N/A | B13: =IF(ISNUMBER('Bets'!N9),'Bets'!N9,NA()) -> #N/A
A14: =IF(ISNUMBER('Bets'!N10),9,NA()) -> #N/A | B14: =IF(ISNUMBER('Bets'!N10),'Bets'!N10,NA()) -> #N/A
A15: =IF(ISNUMBER('Bets'!N11),10,NA()) -> #N/A | B15: =IF(ISNUMBER('Bets'!N11),'Bets'!N11,NA()) -> #N/A
A16: =IF(ISNUMBER('Bets'!N12),11,NA()) -> #N/A | B16: =IF(ISNUMBER('Bets'!N12),'Bets'!N12,NA()) -> #N/A
A17: =IF(ISNUMBER('Bets'!N13),12,NA()) -> #N/A | B17: =IF(ISNUMBER('Bets'!N13),'Bets'!N13,NA()) -> #N/A
A18: =IF(ISNUMBER('Bets'!N14),13,NA()) -> #N/A | B18: =IF(ISNUMBER('Bets'!N14),'Bets'!N14,NA()) -> #N/A
A19: =IF(ISNUMBER('Bets'!N15),14,NA()) -> #N/A | B19: =IF(ISNUMBER('Bets'!N15),'Bets'!N15,NA()) -> #N/A
A20: =IF(ISNUMBER('Bets'!N16),15,NA()) -> #N/A | B20: =IF(ISNUMBER('Bets'!N16),'Bets'!N16,NA()) -> #N/A
A21: =IF(ISNUMBER('Bets'!N17),16,NA()) -> #N/A | B21: =IF(ISNUMBER('Bets'!N17),'Bets'!N17,NA()) -> #N/A
A22: =IF(ISNUMBER('Bets'!N18),17,NA()) -> #N/A | B22: =IF(ISNUMBER('Bets'!N18),'Bets'!N18,NA()) -> #N/A
A23: =IF(ISNUMBER('Bets'!N19),18,NA()) -> #N/A | B23: =IF(ISNUMBER('Bets'!N19),'Bets'!N19,NA()) -> #N/A
A24: =IF(ISNUMBER('Bets'!N20),19,NA()) -> #N/A | B24: =IF(ISNUMBER('Bets'!N20),'Bets'!N20,NA()) -> #N/A
A25: =IF(ISNUMBER('Bets'!N21),20,NA()) -> #N/A | B25: =IF(ISNUMBER('Bets'!N21),'Bets'!N21,NA()) -> #N/A
A26: =IF(ISNUMBER('Bets'!N22),21,NA()) -> #N/A | B26: =IF(ISNUMBER('Bets'!N22),'Bets'!N22,NA()) -> #N/A
A27: =IF(ISNUMBER('Bets'!N23),22,NA()) -> #N/A | B27: =IF(ISNUMBER('Bets'!N23),'Bets'!N23,NA()) -> #N/A
A28: =IF(ISNUMBER('Bets'!N24),23,NA()) -> #N/A | B28: =IF(ISNUMBER('Bets'!N24),'Bets'!N24,NA()) -> #N/A
A29: =IF(ISNUMBER('Bets'!N25),24,NA()) -> #N/A | B29: =IF(ISNUMBER('Bets'!N25),'Bets'!N25,NA()) -> #N/A
A30: =IF(ISNUMBER('Bets'!N26),25,NA()) -> #N/A | B30: =IF(ISNUMBER('Bets'!N26),'Bets'!N26,NA()) -> #N/A
A31: =IF(ISNUMBER('Bets'!N27),26,NA()) -> #N/A | B31: =IF(ISNUMBER('Bets'!N27),'Bets'!N27,NA()) -> #N/A
A32: =IF(ISNUMBER('Bets'!N28),27,NA()) -> #N/A | B32: =IF(ISNUMBER('Bets'!N28),'Bets'!N28,NA()) -> #N/A
A33: =IF(ISNUMBER('Bets'!N29),28,NA()) -> #N/A | B33: =IF(ISNUMBER('Bets'!N29),'Bets'!N29,NA()) -> #N/A
A34: =IF(ISNUMBER('Bets'!N30),29,NA()) -> #N/A | B34: =IF(ISNUMBER('Bets'!N30),'Bets'!N30,NA()) -> #N/A
A35: =IF(ISNUMBER('Bets'!N31),30,NA()) -> #N/A | B35: =IF(ISNUMBER('Bets'!N31),'Bets'!N31,NA()) -> #N/A
A36: =IF(ISNUMBER('Bets'!N32),31,NA()) -> #N/A | B36: =IF(ISNUMBER('Bets'!N32),'Bets'!N32,NA()) -> #N/A
A37: =IF(ISNUMBER('Bets'!N33),32,NA()) -> #N/A | B37: =IF(ISNUMBER('Bets'!N33),'Bets'!N33,NA()) -> #N/A
A38: =IF(ISNUMBER('Bets'!N34),33,NA()) -> #N/A | B38: =IF(ISNUMBER('Bets'!N34),'Bets'!N34,NA()) -> #N/A
A39: =IF(ISNUMBER('Bets'!N35),34,NA()) -> #N/A | B39: =IF(ISNUMBER('Bets'!N35),'Bets'!N35,NA()) -> #N/A
A40: =IF(ISNUMBER('Bets'!N36),35,NA()) -> #N/A | B40: =IF(ISNUMBER('Bets'!N36),'Bets'!N36,NA()) -> #N/A
A41: =IF(ISNUMBER('Bets'!N37),36,NA()) -> #N/A | B41: =IF(ISNUMBER('Bets'!N37),'Bets'!N37,NA()) -> #N/A
A42: =IF(ISNUMBER('Bets'!N38),37,NA()) -> #N/A | B42: =IF(ISNUMBER('Bets'!N38),'Bets'!N38,NA()) -> #N/A
A43: =IF(ISNUMBER('Bets'!N39),38,NA()) -> #N/A | B43: =IF(ISNUMBER('Bets'!N39),'Bets'!N39,NA()) -> #N/A
A44: =IF(ISNUMBER('Bets'!N40),39,NA()) -> #N/A | B44: =IF(ISNUMBER('Bets'!N40),'Bets'!N40,NA()) -> #N/A
A45: =IF(ISNUMBER('Bets'!N41),40,NA()) -> #N/A | B45: =IF(ISNUMBER('Bets'!N41),'Bets'!N41,NA()) -> #N/A
A46: =IF(ISNUMBER('Bets'!N42),41,NA()) -> #N/A | B46: =IF(ISNUMBER('Bets'!N42),'Bets'!N42,NA()) -> #N/A
A47: =IF(ISNUMBER('Bets'!N43),42,NA()) -> #N/A | B47: =IF(ISNUMBER('Bets'!N43),'Bets'!N43,NA()) -> #N/A
A48: =IF(ISNUMBER('Bets'!N44),43,NA()) -> #N/A | B48: =IF(ISNUMBER('Bets'!N44),'Bets'!N44,NA()) -> #N/A
A49: =IF(ISNUMBER('Bets'!N45),44,NA()) -> #N/A | B49: =IF(ISNUMBER('Bets'!N45),'Bets'!N45,NA()) -> #N/A
A50: =IF(ISNUMBER('Bets'!N46),45,NA()) -> #N/A | B50: =IF(ISNUMBER('Bets'!N46),'Bets'!N46,NA()) -> #N/A
A51: =IF(ISNUMBER('Bets'!N47),46,NA()) -> #N/A | B51: =IF(ISNUMBER('Bets'!N47),'Bets'!N47,NA()) -> #N/A
A52: =IF(ISNUMBER('Bets'!N48),47,NA()) -> #N/A | B52: =IF(ISNUMBER('Bets'!N48),'Bets'!N48,NA()) -> #N/A
A53: =IF(ISNUMBER('Bets'!N49),48,NA()) -> #N/A | B53: =IF(ISNUMBER('Bets'!N49),'Bets'!N49,NA()) -> #N/A
A54: =IF(ISNUMBER('Bets'!N50),49,NA()) -> #N/A | B54: =IF(ISNUMBER('Bets'!N50),'Bets'!N50,NA()) -> #N/A
A55: =IF(ISNUMBER('Bets'!N51),50,NA()) -> #N/A | B55: =IF(ISNUMBER('Bets'!N51),'Bets'!N51,NA()) -> #N/A
A56: =IF(ISNUMBER('Bets'!N52),51,NA()) -> #N/A | B56: =IF(ISNUMBER('Bets'!N52),'Bets'!N52,NA()) -> #N/A
A57: =IF(ISNUMBER('Bets'!N53),52,NA()) -> #N/A | B57: =IF(ISNUMBER('Bets'!N53),'Bets'!N53,NA()) -> #N/A
A58: =IF(ISNUMBER('Bets'!N54),53,NA()) -> #N/A | B58: =IF(ISNUMBER('Bets'!N54),'Bets'!N54,NA()) -> #N/A
A59: =IF(ISNUMBER('Bets'!N55),54,NA()) -> #N/A | B59: =IF(ISNUMBER('Bets'!N55),'Bets'!N55,NA()) -> #N/A
A60: =IF(ISNUMBER('Bets'!N56),55,NA()) -> #N/A | B60: =IF(ISNUMBER('Bets'!N56),'Bets'!N56,NA()) -> #N/A
A61: =IF(ISNUMBER('Bets'!N57),56,NA()) -> #N/A | B61: =IF(ISNUMBER('Bets'!N57),'Bets'!N57,NA()) -> #N/A
A62: =IF(ISNUMBER('Bets'!N58),57,NA()) -> #N/A | B62: =IF(ISNUMBER('Bets'!N58),'Bets'!N58,NA()) -> #N/A
A63: =IF(ISNUMBER('Bets'!N59),58,NA()) -> #N/A | B63: =IF(ISNUMBER('Bets'!N59),'Bets'!N59,NA()) -> #N/A
A64: =IF(ISNUMBER('Bets'!N60),59,NA()) -> #N/A | B64: =IF(ISNUMBER('Bets'!N60),'Bets'!N60,NA()) -> #N/A
A65: =IF(ISNUMBER('Bets'!N61),60,NA()) -> #N/A | B65: =IF(ISNUMBER('Bets'!N61),'Bets'!N61,NA()) -> #N/A
A66: =IF(ISNUMBER('Bets'!N62),61,NA()) -> #N/A | B66: =IF(ISNUMBER('Bets'!N62),'Bets'!N62,NA()) -> #N/A
A67: =IF(ISNUMBER('Bets'!N63),62,NA()) -> #N/A | B67: =IF(ISNUMBER('Bets'!N63),'Bets'!N63,NA()) -> #N/A
A68: =IF(ISNUMBER('Bets'!N64),63,NA()) -> #N/A | B68: =IF(ISNUMBER('Bets'!N64),'Bets'!N64,NA()) -> #N/A
A69: =IF(ISNUMBER('Bets'!N65),64,NA()) -> #N/A | B69: =IF(ISNUMBER('Bets'!N65),'Bets'!N65,NA()) -> #N/A
A70: =IF(ISNUMBER('Bets'!N66),65,NA()) -> #N/A | B70: =IF(ISNUMBER('Bets'!N66),'Bets'!N66,NA()) -> #N/A
A71: =IF(ISNUMBER('Bets'!N67),66,NA()) -> #N/A | B71: =IF(ISNUMBER('Bets'!N67),'Bets'!N67,NA()) -> #N/A
A72: =IF(ISNUMBER('Bets'!N68),67,NA()) -> #N/A | B72: =IF(ISNUMBER('Bets'!N68),'Bets'!N68,NA()) -> #N/A
A73: =IF(ISNUMBER('Bets'!N69),68,NA()) -> #N/A | B73: =IF(ISNUMBER('Bets'!N69),'Bets'!N69,NA()) -> #N/A
A74: =IF(ISNUMBER('Bets'!N70),69,NA()) -> #N/A | B74: =IF(ISNUMBER('Bets'!N70),'Bets'!N70,NA()) -> #N/A
A75: =IF(ISNUMBER('Bets'!N71),70,NA()) -> #N/A | B75: =IF(ISNUMBER('Bets'!N71),'Bets'!N71,NA()) -> #N/A
A76: =IF(ISNUMBER('Bets'!N72),71,NA()) -> #N/A | B76: =IF(ISNUMBER('Bets'!N72),'Bets'!N72,NA()) -> #N/A
A77: =IF(ISNUMBER('Bets'!N73),72,NA()) -> #N/A | B77: =IF(ISNUMBER('Bets'!N73),'Bets'!N73,NA()) -> #N/A
A78: =IF(ISNUMBER('Bets'!N74),73,NA()) -> #N/A | B78: =IF(ISNUMBER('Bets'!N74),'Bets'!N74,NA()) -> #N/A
A79: =IF(ISNUMBER('Bets'!N75),74,NA()) -> #N/A | B79: =IF(ISNUMBER('Bets'!N75),'Bets'!N75,NA()) -> #N/A
A80: =IF(ISNUMBER('Bets'!N76),75,NA()) -> #N/A | B80: =IF(ISNUMBER('Bets'!N76),'Bets'!N76,NA()) -> #N/A
A81: =IF(ISNUMBER('Bets'!N77),76,NA()) -> #N/A | B81: =IF(ISNUMBER('Bets'!N77),'Bets'!N77,NA()) -> #N/A
A82: =IF(ISNUMBER('Bets'!N78),77,NA()) -> #N/A | B82: =IF(ISNUMBER('Bets'!N78),'Bets'!N78,NA()) -> #N/A
A83: =IF(ISNUMBER('Bets'!N79),78,NA()) -> #N/A | B83: =IF(ISNUMBER('Bets'!N79),'Bets'!N79,NA()) -> #N/A
A84: =IF(ISNUMBER('Bets'!N80),79,NA()) -> #N/A | B84: =IF(ISNUMBER('Bets'!N80),'Bets'!N80,NA()) -> #N/A
A85: =IF(ISNUMBER('Bets'!N81),80,NA()) -> #N/A | B85: =IF(ISNUMBER('Bets'!N81),'Bets'!N81,NA()) -> #N/A
A86: =IF(ISNUMBER('Bets'!N82),81,NA()) -> #N/A | B86: =IF(ISNUMBER('Bets'!N82),'Bets'!N82,NA()) -> #N/A
A87: =IF(ISNUMBER('Bets'!N83),82,NA()) -> #N/A | B87: =IF(ISNUMBER('Bets'!N83),'Bets'!N83,NA()) -> #N/A
A88: =IF(ISNUMBER('Bets'!N84),83,NA()) -> #N/A | B88: =IF(ISNUMBER('Bets'!N84),'Bets'!N84,NA()) -> #N/A
A89: =IF(ISNUMBER('Bets'!N85),84,NA()) -> #N/A | B89: =IF(ISNUMBER('Bets'!N85),'Bets'!N85,NA()) -> #N/A
A90: =IF(ISNUMBER('Bets'!N86),85,NA()) -> #N/A | B90: =IF(ISNUMBER('Bets'!N86),'Bets'!N86,NA()) -> #N/A
A91: =IF(ISNUMBER('Bets'!N87),86,NA()) -> #N/A | B91: =IF(ISNUMBER('Bets'!N87),'Bets'!N87,NA()) -> #N/A
A92: =IF(ISNUMBER('Bets'!N88),87,NA()) -> #N/A | B92: =IF(ISNUMBER('Bets'!N88),'Bets'!N88,NA()) -> #N/A
A93: =IF(ISNUMBER('Bets'!N89),88,NA()) -> #N/A | B93: =IF(ISNUMBER('Bets'!N89),'Bets'!N89,NA()) -> #N/A
A94: =IF(ISNUMBER('Bets'!N90),89,NA()) -> #N/A | B94: =IF(ISNUMBER('Bets'!N90),'Bets'!N90,NA()) -> #N/A
A95: =IF(ISNUMBER('Bets'!N91),90,NA()) -> #N/A | B95: =IF(ISNUMBER('Bets'!N91),'Bets'!N91,NA()) -> #N/A
A96: =IF(ISNUMBER('Bets'!N92),91,NA()) -> #N/A | B96: =IF(ISNUMBER('Bets'!N92),'Bets'!N92,NA()) -> #N/A
A97: =IF(ISNUMBER('Bets'!N93),92,NA()) -> #N/A | B97: =IF(ISNUMBER('Bets'!N93),'Bets'!N93,NA()) -> #N/A
A98: =IF(ISNUMBER('Bets'!N94),93,NA()) -> #N/A | B98: =IF(ISNUMBER('Bets'!N94),'Bets'!N94,NA()) -> #N/A
A99: =IF(ISNUMBER('Bets'!N95),94,NA()) -> #N/A | B99: =IF(ISNUMBER('Bets'!N95),'Bets'!N95,NA()) -> #N/A
A100: =IF(ISNUMBER('Bets'!N96),95,NA()) -> #N/A | B100: =IF(ISNUMBER('Bets'!N96),'Bets'!N96,NA()) -> #N/A
A101: =IF(ISNUMBER('Bets'!N97),96,NA()) -> #N/A | B101: =IF(ISNUMBER('Bets'!N97),'Bets'!N97,NA()) -> #N/A
...
